BEGIN:VCALENDAR
VERSION:2.0
PRODID:-//Texas Technical Trade School - ECPv6.15.20//NONSGML v1.0//EN
CALSCALE:GREGORIAN
METHOD:PUBLISH
X-ORIGINAL-URL:https://www.texastechtrade.com
X-WR-CALDESC:Events for Texas Technical Trade School
REFRESH-INTERVAL;VALUE=DURATION:PT1H
X-Robots-Tag:noindex
X-PUBLISHED-TTL:PT1H
BEGIN:VTIMEZONE
TZID:America/Chicago
BEGIN:DAYLIGHT
TZOFFSETFROM:-0600
TZOFFSETTO:-0500
TZNAME:CDT
DTSTART:20250309T080000
END:DAYLIGHT
BEGIN:STANDARD
TZOFFSETFROM:-0500
TZOFFSETTO:-0600
TZNAME:CST
DTSTART:20251102T070000
END:STANDARD
BEGIN:DAYLIGHT
TZOFFSETFROM:-0600
TZOFFSETTO:-0500
TZNAME:CDT
DTSTART:20260308T080000
END:DAYLIGHT
BEGIN:STANDARD
TZOFFSETFROM:-0500
TZOFFSETTO:-0600
TZNAME:CST
DTSTART:20261101T070000
END:STANDARD
BEGIN:DAYLIGHT
TZOFFSETFROM:-0600
TZOFFSETTO:-0500
TZNAME:CDT
DTSTART:20270314T080000
END:DAYLIGHT
BEGIN:STANDARD
TZOFFSETFROM:-0500
TZOFFSETTO:-0600
TZNAME:CST
DTSTART:20271107T070000
END:STANDARD
END:VTIMEZONE
BEGIN:VEVENT
DTSTART;VALUE=DATE:20260518
DTEND;VALUE=DATE:20260519
DTSTAMP:20260420T111123
CREATED:20251217T184749Z
LAST-MODIFIED:20260311T160817Z
UID:2735-1779062400-1779148799@www.texastechtrade.com
SUMMARY:HVAC Technician – Night Class - Class Start Date
DESCRIPTION:May 18 – August 3\, 2026This class runs from May 18 – August 3\, 2026
URL:https://www.texastechtrade.com/event/hvac-technician-night-class-class-start-date-may-18-august-3-2026/
CATEGORIES:HVAC TECHNICIAN PROGRAM - NIGHT CLASS
END:VEVENT
BEGIN:VEVENT
DTSTART;VALUE=DATE:20260601
DTEND;VALUE=DATE:20260602
DTSTAMP:20260420T111123
CREATED:20251217T184932Z
LAST-MODIFIED:20260120T223756Z
UID:2739-1780272000-1780358399@www.texastechtrade.com
SUMMARY:HVAC Technician – Night Class - Class Start Date
DESCRIPTION:June 1 – August 20\, 2026This class runs from June 1 to August 20\, 2026.
URL:https://www.texastechtrade.com/event/hvac-technician-night-class-class-start-date-june-1-august-20-2026/
CATEGORIES:HVAC TECHNICIAN PROGRAM - NIGHT CLASS
END:VEVENT
BEGIN:VEVENT
DTSTART;VALUE=DATE:20260720
DTEND;VALUE=DATE:20260721
DTSTAMP:20260420T111123
CREATED:20251217T185003Z
LAST-MODIFIED:20260120T223831Z
UID:2741-1784505600-1784591999@www.texastechtrade.com
SUMMARY:HVAC Technician – Night Class - Class Start Date
DESCRIPTION:July 20 – October 8\, 2026This class runs from July 20 to October 8\, 2026.
URL:https://www.texastechtrade.com/event/hvac-technician-night-class-class-start-date-july-20-october-8-2026/
CATEGORIES:HVAC TECHNICIAN PROGRAM - NIGHT CLASS
END:VEVENT
BEGIN:VEVENT
DTSTART;VALUE=DATE:20260908
DTEND;VALUE=DATE:20260909
DTSTAMP:20260420T111123
CREATED:20251217T185038Z
LAST-MODIFIED:20260120T223921Z
UID:2743-1788825600-1788911999@www.texastechtrade.com
SUMMARY:HVAC Technician – Night Class - Class Start Date
DESCRIPTION:September 8 – November 25\, 2026This class runs from September 8 to November 25\, 2026.
URL:https://www.texastechtrade.com/event/hvac-technician-night-class-class-start-september-8-november-25-2026/
CATEGORIES:HVAC TECHNICIAN PROGRAM - NIGHT CLASS
END:VEVENT
BEGIN:VEVENT
DTSTART;VALUE=DATE:20261026
DTEND;VALUE=DATE:20261027
DTSTAMP:20260420T111123
CREATED:20251217T185108Z
LAST-MODIFIED:20260120T224014Z
UID:2745-1792972800-1793059199@www.texastechtrade.com
SUMMARY:HVAC Technician – Night Class - Class Start Date
DESCRIPTION:October 26\, 2026 – January 21\, 2027This class runs from October 26\, 2026 to January 21\, 2027.
URL:https://www.texastechtrade.com/event/hvac-technician-night-class-class-start-dateoctober-26-2026-january-21-2027/
CATEGORIES:HVAC TECHNICIAN PROGRAM - NIGHT CLASS
END:VEVENT
BEGIN:VEVENT
DTSTART;VALUE=DATE:20261130
DTEND;VALUE=DATE:20261201
DTSTAMP:20260420T111123
CREATED:20260120T134317Z
LAST-MODIFIED:20260120T224052Z
UID:2882-1795996800-1796083199@www.texastechtrade.com
SUMMARY:HVAC Technician – Night Class - Class Start Date
DESCRIPTION:November 30\, 2026 – February 25\, 2027This class runs from November 30\, 2026 to February 25\, 2027.
URL:https://www.texastechtrade.com/event/hvac-technician-night-class-class-start-date-november-30-2026-february-25-2027/
CATEGORIES:HVAC TECHNICIAN PROGRAM - NIGHT CLASS
END:VEVENT
END:VCALENDAR