BEGIN:VCALENDAR
VERSION:2.0
PRODID:-//Texas Technical Trade School - ECPv6.15.20//NONSGML v1.0//EN
CALSCALE:GREGORIAN
METHOD:PUBLISH
X-ORIGINAL-URL:https://www.texastechtrade.com
X-WR-CALDESC:Events for Texas Technical Trade School
REFRESH-INTERVAL;VALUE=DURATION:PT1H
X-Robots-Tag:noindex
X-PUBLISHED-TTL:PT1H
BEGIN:VTIMEZONE
TZID:America/Chicago
BEGIN:DAYLIGHT
TZOFFSETFROM:-0600
TZOFFSETTO:-0500
TZNAME:CDT
DTSTART:20250309T080000
END:DAYLIGHT
BEGIN:STANDARD
TZOFFSETFROM:-0500
TZOFFSETTO:-0600
TZNAME:CST
DTSTART:20251102T070000
END:STANDARD
BEGIN:DAYLIGHT
TZOFFSETFROM:-0600
TZOFFSETTO:-0500
TZNAME:CDT
DTSTART:20260308T080000
END:DAYLIGHT
BEGIN:STANDARD
TZOFFSETFROM:-0500
TZOFFSETTO:-0600
TZNAME:CST
DTSTART:20261101T070000
END:STANDARD
BEGIN:DAYLIGHT
TZOFFSETFROM:-0600
TZOFFSETTO:-0500
TZNAME:CDT
DTSTART:20270314T080000
END:DAYLIGHT
BEGIN:STANDARD
TZOFFSETFROM:-0500
TZOFFSETTO:-0600
TZNAME:CST
DTSTART:20271107T070000
END:STANDARD
END:VTIMEZONE
BEGIN:VEVENT
DTSTART;VALUE=DATE:20260608
DTEND;VALUE=DATE:20260609
DTSTAMP:20260420T111138
CREATED:20251217T182913Z
LAST-MODIFIED:20260311T160152Z
UID:2717-1780876800-1780963199@www.texastechtrade.com
SUMMARY:HVAC Technician – Day Class - Class Start Date
DESCRIPTION:June 8 – July 30\, 2026This class runs from June 8 – July 30\, 2026
URL:https://www.texastechtrade.com/event/hvac-technician-day-class-class-start-date0june-8-july-30-2026/
CATEGORIES:HVAC TECHNICIAN PROGRAM - DAY CLASS
END:VEVENT
BEGIN:VEVENT
DTSTART;VALUE=DATE:20260629
DTEND;VALUE=DATE:20260630
DTSTAMP:20260420T111138
CREATED:20251217T183504Z
LAST-MODIFIED:20251217T183508Z
UID:2721-1782691200-1782777599@www.texastechtrade.com
SUMMARY:HVAC Technician – Day Class - Class Start Date
DESCRIPTION:June 29 – August 20\, 2026 This class runs from June 29 to August 20\, 2026.
URL:https://www.texastechtrade.com/event/hvac-technician-day-class-class-start-date-june-29-august-20-2026/
CATEGORIES:HVAC TECHNICIAN PROGRAM - DAY CLASS
END:VEVENT
BEGIN:VEVENT
DTSTART;VALUE=DATE:20260803
DTEND;VALUE=DATE:20260804
DTSTAMP:20260420T111138
CREATED:20251217T183536Z
LAST-MODIFIED:20251217T183536Z
UID:2723-1785715200-1785801599@www.texastechtrade.com
SUMMARY:HVAC Technician – Day Class - Class Start Date
DESCRIPTION:August 3 – September 24\, 2026 This class runs from August 3 to September 24\, 2026.
URL:https://www.texastechtrade.com/event/hvac-technician-day-class-class-start-date-august-3-september-24-2026/
CATEGORIES:HVAC TECHNICIAN PROGRAM - DAY CLASS
END:VEVENT
BEGIN:VEVENT
DTSTART;VALUE=DATE:20260908
DTEND;VALUE=DATE:20260909
DTSTAMP:20260420T111138
CREATED:20260120T133308Z
LAST-MODIFIED:20260120T133308Z
UID:2864-1788825600-1788911999@www.texastechtrade.com
SUMMARY:HVAC Technician – Day Class - Class Start Date
DESCRIPTION:September 8 – October 29\, 2026This class runs from September 8 to October 29\, 2026.
URL:https://www.texastechtrade.com/event/hvac-technician-day-class-class-start-date-september-8-october-29/
CATEGORIES:HVAC TECHNICIAN PROGRAM - DAY CLASS
END:VEVENT
BEGIN:VEVENT
DTSTART;VALUE=DATE:20261012
DTEND;VALUE=DATE:20261013
DTSTAMP:20260420T111138
CREATED:20251217T183615Z
LAST-MODIFIED:20251217T183848Z
UID:2725-1791763200-1791849599@www.texastechtrade.com
SUMMARY:HVAC Technician – Day Class - Class Start Date
DESCRIPTION:October 12 – December 3\, 2026 This class runs from October 12 to December 3\, 2026.
URL:https://www.texastechtrade.com/event/hvac-technician-day-class-class-start-date-september-8-october-29-2026-october-12-december-3-2026/
CATEGORIES:HVAC TECHNICIAN PROGRAM - DAY CLASS
END:VEVENT
BEGIN:VEVENT
DTSTART;VALUE=DATE:20261116
DTEND;VALUE=DATE:20261117
DTSTAMP:20260420T111138
CREATED:20251217T183923Z
LAST-MODIFIED:20251217T183923Z
UID:2729-1794787200-1794873599@www.texastechtrade.com
SUMMARY:HVAC Technician – Day Class - Class Start Date
DESCRIPTION:November 16\, 2026 – January 14\, 2027 This class runs from November 16\, 2026 to January 14\, 2027.
URL:https://www.texastechtrade.com/event/hvac-technician-day-class-class-start-date-november-16-2026-january-14-2027/
CATEGORIES:HVAC TECHNICIAN PROGRAM - DAY CLASS
END:VEVENT
END:VCALENDAR