BEGIN:VCALENDAR
VERSION:2.0
PRODID:-//Texas Technical Trade School - ECPv6.15.20//NONSGML v1.0//EN
CALSCALE:GREGORIAN
METHOD:PUBLISH
X-ORIGINAL-URL:https://www.texastechtrade.com
X-WR-CALDESC:Events for Texas Technical Trade School
REFRESH-INTERVAL;VALUE=DURATION:PT1H
X-Robots-Tag:noindex
X-PUBLISHED-TTL:PT1H
BEGIN:VTIMEZONE
TZID:America/Chicago
BEGIN:DAYLIGHT
TZOFFSETFROM:-0600
TZOFFSETTO:-0500
TZNAME:CDT
DTSTART:20250309T080000
END:DAYLIGHT
BEGIN:STANDARD
TZOFFSETFROM:-0500
TZOFFSETTO:-0600
TZNAME:CST
DTSTART:20251102T070000
END:STANDARD
BEGIN:DAYLIGHT
TZOFFSETFROM:-0600
TZOFFSETTO:-0500
TZNAME:CDT
DTSTART:20260308T080000
END:DAYLIGHT
BEGIN:STANDARD
TZOFFSETFROM:-0500
TZOFFSETTO:-0600
TZNAME:CST
DTSTART:20261101T070000
END:STANDARD
BEGIN:DAYLIGHT
TZOFFSETFROM:-0600
TZOFFSETTO:-0500
TZNAME:CDT
DTSTART:20270314T080000
END:DAYLIGHT
BEGIN:STANDARD
TZOFFSETFROM:-0500
TZOFFSETTO:-0600
TZNAME:CST
DTSTART:20271107T070000
END:STANDARD
END:VTIMEZONE
BEGIN:VEVENT
DTSTART;VALUE=DATE:20260413
DTEND;VALUE=DATE:20260414
DTSTAMP:20260419T034014
CREATED:20251217T181502Z
LAST-MODIFIED:20260311T160013Z
UID:2715-1776038400-1776124799@www.texastechtrade.com
SUMMARY:HVAC Technician – Day Class - Class Start Date
DESCRIPTION:April 13 – June 4\, 2026 This class runs from April 13 – June 4\, 2026
URL:https://www.texastechtrade.com/event/hvac-technician-day-class-class-start-date-april-13-june-4-2026/
CATEGORIES:HVAC TECHNICIAN PROGRAM - DAY CLASS
END:VEVENT
BEGIN:VEVENT
DTSTART;VALUE=DATE:20260216
DTEND;VALUE=DATE:20260217
DTSTAMP:20260419T034014
CREATED:20251217T181231Z
LAST-MODIFIED:20260311T155735Z
UID:2713-1771200000-1771286399@www.texastechtrade.com
SUMMARY:HVAC Technician – Day Class - Class Start Date
DESCRIPTION:February 16 – April 9\, 2026 This class runs from February 16 to April 9\, 2026.
URL:https://www.texastechtrade.com/event/hvac-technician-day-class-class-start-date-february-16-to-april-9-2026/
CATEGORIES:HVAC TECHNICIAN PROGRAM - DAY CLASS
END:VEVENT
BEGIN:VEVENT
DTSTART;VALUE=DATE:20260112
DTEND;VALUE=DATE:20260113
DTSTAMP:20260419T034014
CREATED:20251217T175057Z
LAST-MODIFIED:20260120T132925Z
UID:2711-1768176000-1768262399@www.texastechtrade.com
SUMMARY:HVAC Technician – Day Class - Class Start Date
DESCRIPTION:January 12 – March 12\, 2026 This class runs from January 12 to March 12\, 2026.
URL:https://www.texastechtrade.com/event/hvac-technician-day-class-class-start-date-january-12-march-12-2026/
CATEGORIES:HVAC TECHNICIAN PROGRAM - DAY CLASS
END:VEVENT
END:VCALENDAR