BEGIN:VCALENDAR
VERSION:2.0
PRODID:-//Texas Technical Trade School - ECPv6.15.20//NONSGML v1.0//EN
CALSCALE:GREGORIAN
METHOD:PUBLISH
X-WR-CALNAME:Texas Technical Trade School
X-ORIGINAL-URL:https://www.texastechtrade.com
X-WR-CALDESC:Events for Texas Technical Trade School
REFRESH-INTERVAL;VALUE=DURATION:PT1H
X-Robots-Tag:noindex
X-PUBLISHED-TTL:PT1H
BEGIN:VTIMEZONE
TZID:America/Chicago
BEGIN:DAYLIGHT
TZOFFSETFROM:-0600
TZOFFSETTO:-0500
TZNAME:CDT
DTSTART:20250309T080000
END:DAYLIGHT
BEGIN:STANDARD
TZOFFSETFROM:-0500
TZOFFSETTO:-0600
TZNAME:CST
DTSTART:20251102T070000
END:STANDARD
BEGIN:DAYLIGHT
TZOFFSETFROM:-0600
TZOFFSETTO:-0500
TZNAME:CDT
DTSTART:20260308T080000
END:DAYLIGHT
BEGIN:STANDARD
TZOFFSETFROM:-0500
TZOFFSETTO:-0600
TZNAME:CST
DTSTART:20261101T070000
END:STANDARD
BEGIN:DAYLIGHT
TZOFFSETFROM:-0600
TZOFFSETTO:-0500
TZNAME:CDT
DTSTART:20270314T080000
END:DAYLIGHT
BEGIN:STANDARD
TZOFFSETFROM:-0500
TZOFFSETTO:-0600
TZNAME:CST
DTSTART:20271107T070000
END:STANDARD
END:VTIMEZONE
BEGIN:VEVENT
DTSTART;VALUE=DATE:20260216
DTEND;VALUE=DATE:20260217
DTSTAMP:20260420T164718
CREATED:20251217T173812Z
LAST-MODIFIED:20260311T161406Z
UID:2693-1771200000-1771286399@www.texastechtrade.com
SUMMARY:Electrical Technician – Night Class - Class Start Date
DESCRIPTION:February 16 – May 14\, 2026 This class runs from February 16 to May 14\, 2026.
URL:https://www.texastechtrade.com/event/electrical-technician-night-class-class-start-date-february-16-may-14-2026/
CATEGORIES:ELECTRICAL TECHNICIAN PROGRAM - NIGHT CLASS
END:VEVENT
END:VCALENDAR