BEGIN:VCALENDAR
VERSION:2.0
PRODID:-//Texas Technical Trade School - ECPv6.15.20//NONSGML v1.0//EN
CALSCALE:GREGORIAN
METHOD:PUBLISH
X-ORIGINAL-URL:https://www.texastechtrade.com
X-WR-CALDESC:Events for Texas Technical Trade School
REFRESH-INTERVAL;VALUE=DURATION:PT1H
X-Robots-Tag:noindex
X-PUBLISHED-TTL:PT1H
BEGIN:VTIMEZONE
TZID:America/Chicago
BEGIN:DAYLIGHT
TZOFFSETFROM:-0600
TZOFFSETTO:-0500
TZNAME:CDT
DTSTART:20250309T080000
END:DAYLIGHT
BEGIN:STANDARD
TZOFFSETFROM:-0500
TZOFFSETTO:-0600
TZNAME:CST
DTSTART:20251102T070000
END:STANDARD
BEGIN:DAYLIGHT
TZOFFSETFROM:-0600
TZOFFSETTO:-0500
TZNAME:CDT
DTSTART:20260308T080000
END:DAYLIGHT
BEGIN:STANDARD
TZOFFSETFROM:-0500
TZOFFSETTO:-0600
TZNAME:CST
DTSTART:20261101T070000
END:STANDARD
BEGIN:DAYLIGHT
TZOFFSETFROM:-0600
TZOFFSETTO:-0500
TZNAME:CDT
DTSTART:20270314T080000
END:DAYLIGHT
BEGIN:STANDARD
TZOFFSETFROM:-0500
TZOFFSETTO:-0600
TZNAME:CST
DTSTART:20271107T070000
END:STANDARD
END:VTIMEZONE
BEGIN:VEVENT
DTSTART;VALUE=DATE:20260427
DTEND;VALUE=DATE:20260428
DTSTAMP:20260420T111050
CREATED:20251217T172922Z
LAST-MODIFIED:20260203T195802Z
UID:2675-1777248000-1777334399@www.texastechtrade.com
SUMMARY:Electrical Technician – Day Class - Class Start Date
DESCRIPTION:April 27 – June 18\, 2026 This class runs from April 27 to June 18\, 2026.
URL:https://www.texastechtrade.com/event/electrical-technician-day-class-class-start-date-april-27-june-18-2026/
CATEGORIES:ELECTRICAL TECHNICIAN PROGRAM - DAY CLASS
END:VEVENT
BEGIN:VEVENT
DTSTART;VALUE=DATE:20260526
DTEND;VALUE=DATE:20260527
DTSTAMP:20260420T111050
CREATED:20251217T173005Z
LAST-MODIFIED:20251217T173005Z
UID:2677-1779753600-1779839999@www.texastechtrade.com
SUMMARY:Electrical Technician – Day Class - Class Start Date
DESCRIPTION:May 26 – July 16\, 2026 This class runs from May 26 to July 16\, 2026.
URL:https://www.texastechtrade.com/event/electrical-technician-day-class-class-start-date-may-26-july-16-2026/
CATEGORIES:ELECTRICAL TECHNICIAN PROGRAM - DAY CLASS
END:VEVENT
BEGIN:VEVENT
DTSTART;VALUE=DATE:20260622
DTEND;VALUE=DATE:20260623
DTSTAMP:20260420T111050
CREATED:20251217T173048Z
LAST-MODIFIED:20251217T173048Z
UID:2679-1782086400-1782172799@www.texastechtrade.com
SUMMARY:Electrical Technician – Day Class - Class Start Date
DESCRIPTION:June 22 – August 13\, 2026 This class runs from June 22 to August 13\, 2026.
URL:https://www.texastechtrade.com/event/electrical-technician-day-class-class-start-date-june-22-august-13-2026/
CATEGORIES:ELECTRICAL TECHNICIAN PROGRAM - DAY CLASS
END:VEVENT
BEGIN:VEVENT
DTSTART;VALUE=DATE:20260706
DTEND;VALUE=DATE:20260707
DTSTAMP:20260420T111050
CREATED:20251217T173120Z
LAST-MODIFIED:20251217T173120Z
UID:2681-1783296000-1783382399@www.texastechtrade.com
SUMMARY:Electrical Technician – Day Class - Class Start Date
DESCRIPTION:July 6 – August 27\, 2026 This class runs from July 6 to August 27\, 2026.
URL:https://www.texastechtrade.com/event/electrical-technician-day-class-class-start-date-july-6-august-27-2026/
CATEGORIES:ELECTRICAL TECHNICIAN PROGRAM - DAY CLASS
END:VEVENT
BEGIN:VEVENT
DTSTART;VALUE=DATE:20260803
DTEND;VALUE=DATE:20260804
DTSTAMP:20260420T111050
CREATED:20251217T173148Z
LAST-MODIFIED:20260203T195826Z
UID:2683-1785715200-1785801599@www.texastechtrade.com
SUMMARY:Electrical Technician – Day Class - Class Start Date
DESCRIPTION:August 3 – September 24\, 2026 This class runs from August 3 to September 24\, 2026.
URL:https://www.texastechtrade.com/event/electrical-technician-day-class-class-start-date-august-3-september-24-2026/
CATEGORIES:ELECTRICAL TECHNICIAN PROGRAM - DAY CLASS
END:VEVENT
BEGIN:VEVENT
DTSTART;VALUE=DATE:20260928
DTEND;VALUE=DATE:20260929
DTSTAMP:20260420T111050
CREATED:20251217T173226Z
LAST-MODIFIED:20251217T173226Z
UID:2685-1790553600-1790639999@www.texastechtrade.com
SUMMARY:Electrical Technician – Day Class - Class Start Date
DESCRIPTION:September 28 – November 19\, 2026 This class runs from September 28 to November 19\, 2026.
URL:https://www.texastechtrade.com/event/electrical-technician-day-class-class-start-date-september-28-november-19-2026/
CATEGORIES:ELECTRICAL TECHNICIAN PROGRAM - DAY CLASS
END:VEVENT
BEGIN:VEVENT
DTSTART;VALUE=DATE:20261026
DTEND;VALUE=DATE:20261027
DTSTAMP:20260420T111050
CREATED:20251217T173303Z
LAST-MODIFIED:20251217T173303Z
UID:2687-1792972800-1793059199@www.texastechtrade.com
SUMMARY:Electrical Technician – Day Class - Class Start Date
DESCRIPTION:October 26 – December 17\, 2026 This class runs from October 26 to December 17\, 2026.
URL:https://www.texastechtrade.com/event/electrical-technician-day-class-class-start-date-october-26-december-17-2026/
CATEGORIES:ELECTRICAL TECHNICIAN PROGRAM - DAY CLASS
END:VEVENT
BEGIN:VEVENT
DTSTART;VALUE=DATE:20261130
DTEND;VALUE=DATE:20261201
DTSTAMP:20260420T111050
CREATED:20251217T173335Z
LAST-MODIFIED:20251217T173335Z
UID:2689-1795996800-1796083199@www.texastechtrade.com
SUMMARY:Electrical Technician – Day Class - Class Start Date
DESCRIPTION:November 30\, 2026 – January 21\, 2027 This class runs from November 30\, 2026 to January 21\, 2027.
URL:https://www.texastechtrade.com/event/electrical-technician-day-class-class-start-date-november-30-2026-january-21-2027/
CATEGORIES:ELECTRICAL TECHNICIAN PROGRAM - DAY CLASS
END:VEVENT
END:VCALENDAR